BEGIN:VCALENDAR
VERSION:2.0
PRODID:-//Comité Español de Halterofilia Máster - ECPv6.0.6.2//NONSGML v1.0//EN
CALSCALE:GREGORIAN
METHOD:PUBLISH
X-WR-CALNAME:Comité Español de Halterofilia Máster
X-ORIGINAL-URL:https://halterofiliamasters.es
X-WR-CALDESC:Eventos para Comité Español de Halterofilia Máster
REFRESH-INTERVAL;VALUE=DURATION:PT1H
X-Robots-Tag:noindex
X-PUBLISHED-TTL:PT1H
BEGIN:VTIMEZONE
TZID:UTC
BEGIN:STANDARD
TZOFFSETFROM:+0000
TZOFFSETTO:+0000
TZNAME:UTC
DTSTART:20250101T000000
END:STANDARD
END:VTIMEZONE
BEGIN:VEVENT
DTSTART;VALUE=DATE:20250125
DTEND;VALUE=DATE:20250127
DTSTAMP:20260422T123350
CREATED:20240514T091930Z
LAST-MODIFIED:20250122T171718Z
UID:1533-1737763200-1737935999@halterofiliamasters.es
SUMMARY:VIII Copa de España Máster y VIII Campeonato de España Máster por Federaciones
DESCRIPTION:DESCRIPCIÓN\nEn el próximo 25/26 de enero 2025 se celebrará en Gandia\, la VIII Copa de España de Halterofilia Máster y el VIII Campeonato de España por Federaciones. Este evento ha sido reprogramado despues del aplazamiento\, originalmente para el 9/10 de noviembre. La competición se organizará conjuntamente entre el Atletico Club de Gandia\, la Federación Valenciana de Halterofilia y el Comité Español de Halterofilia Máster. A continuación\, podéis ver los detalles: \nEVENTO:  VIII Copa de España y VIII Campeonato de España por Federaciones \nFECHAS: 25/26 enero 2025  9/10 de noviembre 2024 \nLUGAR: Pabellon de Halterofilia\, Polideportivo Municipal\, Gandia https://www.gandia.es/aytg/Web_php/index.php?contenido=subapartados_woden&id_boto=404#primero \nREUNIÓN TÉCNICA – no habrá una reunión técnica formal pero el Comité Máster y representantes de A.C.Gandia estarán en la cena del Hotel Borja a las 21hrs y darán una bienvenida a todos\, si tenéis alguna pregunta podemos resolverla allí. https://hotelborgia.com/ \nENLACES PARA VER EN DIRECTO: \n\nSABADO https://www.youtube.com/live/J4Y6KGW0ujU\nDOMINGO https://www.youtube.com/live/-yqHN9ERWpU\n\n  \nLISTADO DE PARTICIPANTES (20/01/25) – VIII Copa Esp – Listado Participantes R07 \nHORARIO DEFINITIVO – VIII Copa Esp – Horario Definitivo \n \nHemos podido adelantar el sábado 30minutos y el domingo 1hr y 15 minutos.  Por favor mirar bien los nuevos horarios y tu tanda para no tener un disgusto el día de la competitción. Hotel para el pesaje – https://hotelborgia.com/ \n\n\nINSCRIPCIÓN CERRADA\nLa participación es abierta\, no es necesario realizar una marca mínima previa para participar en el campeonato. Todo levantador/a\, debe estar en posesión de la licencia federativa del año en curso tramitada por su Federación Autonómica. La copa puede servir como clasificatoria para el Campeonato de España Máster 2025\, el Campeonato de Europa Máster 2025 y el Campeonato del Mundo Máster 2025. \nSe entregarán trofeos a las tres mejores marcas de cada grupo de edad –  según la puntuación SMF (masculino) y SHMF (femenino). Las mejores tres federaciones también recibirán un trofeo y medallas individuales para cada participante en la selección. \nEXTRANJEROS:    También está abierto a extranjeros. No podrán acceder a títulos como mejor marca por edad o a establecer récords de España\, pero sí podrán disfrutar del evento teniendo además su propio Open\, teniendo derecho a pódium y premiación dentro de su propia clasificación de extranjeros\, exclusivamente por puntuación SMF/SHMF. \nANTIDOPAJE: El Comité está comprometido con el deporte limpio\, con lo cual habrá controles de dopaje realizados por CELAD. Rogamos que se informe sobre las reglas de Antidopaje y que cada atleta revise la medicación tomada\, usando o NoDopApp (se puede descargar en Android o iOS) o NoDopWeb (https://nodopweb.celad.gob.es/).  \nCUOTA INSCRIPCIÓN:  30 €  \nFECHA LÍMITE INSCRIPCIÓN:   30 noviembre 2024 \nINSCRIPCIÓN INDIVIDUAL (NO A TRAVES DE LA FEDERACIÓN TERRITORIAL) CADA ATLETA TIENE QUE RELLENAR EL FORMULARIO\, SI YA HAS INSCRITO PREVIAMENTE LA CUOTA ES TRANSFERIBLE AUTOMATICAMENTE. PARA NUEVAS INSCRIPCIONES\, HAY QUE AJUNTAR EL JUSTIFICANTE DEL PAGO (30EUROS) PARA PODER INSCRIBIRSE FORMULARIO INSCRIPCION \nCUENTA PARA PAGOS DE LAS INSCRIPCIONES:  REAL FEDERACIÓN ESPAÑOLA DE HALTEROFILIA: ES53 3058 0972 7227 2002 2821 \nLa cuota de inscripción no se devuelve en el caso de baja del atleta por cualquier razón \nALOJAMIENTO:  \nEl organizador ha negociado un precio preferente para el evento. Puedes reservar\, cambiar\, cancelar habitaciones. Se aplica el orden de llegada para las reservaciones. Todas las reservas ya hechas serán respetados para las nuevas fechas automaticamente.  Si necesitas hacer un cambio o pedir devolución por favor poneros en contacto con el organisador (dirección de correo electronico abajo). \nHotel Borja Gandia https://hotelborgia.com/   Av. República Argentina\, 5\, 46702 – Gandia (Valencia) \nHabitación individual pensión completa 71€ persona/día\nHabitación individual media pensión 69€ persona/día\nHabitación doble pensión completa 46€ persona/día\nHabitación doble media pensión 44€ persona/día\nHabitación triple pensión completa 39€ persona/día\nHabitación triple media pensión 37€ persona/día \nPor favor mandar un correo electronico a atcgandiahalter@gmail.com con el tipo de habitación y las fechas. IMPORTANTE: La cuenta bancaria para reservas de alojamiento será del organizador no de la RFEH por favor no hagais transferencias a la RFEH para alojamiento. \n  \n  \n 
URL:https://halterofiliamasters.es/evento/viii-copa-de-espana-master-y-viii-campeonato-de-espana-master-por-federaciones/
LOCATION:Polideportivo Municipal de Gandia\, Avenida dels Esports 4\, Pabellon de Halterofilia\, Gandia\, Comunidad Valenciana\, 46701\, España
CATEGORIES:Nacional,Presencial
ATTACH;FMTTYPE=image/png:https://halterofiliamasters.es/wp-content/uploads/2024/05/Screenshot-2024-09-12-225227.png
END:VEVENT
END:VCALENDAR