BEGIN:VCALENDAR
VERSION:2.0
PRODID:-//Comité Español de Halterofilia Máster - ECPv6.0.6.2//NONSGML v1.0//EN
CALSCALE:GREGORIAN
METHOD:PUBLISH
X-ORIGINAL-URL:https://halterofiliamasters.es
X-WR-CALDESC:Eventos para Comité Español de Halterofilia Máster
REFRESH-INTERVAL;VALUE=DURATION:PT1H
X-Robots-Tag:noindex
X-PUBLISHED-TTL:PT1H
BEGIN:VTIMEZONE
TZID:UTC
BEGIN:STANDARD
TZOFFSETFROM:+0000
TZOFFSETTO:+0000
TZNAME:UTC
DTSTART:20230101T000000
END:STANDARD
END:VTIMEZONE
BEGIN:VEVENT
DTSTART;TZID=UTC:20231118T080000
DTEND;TZID=UTC:20231118T200000
DTSTAMP:20260423T101906
CREATED:20230608T135218Z
LAST-MODIFIED:20231115T164434Z
UID:1177-1700294400-1700337600@halterofiliamasters.es
SUMMARY:VII COPA DE ESPAÑA MÁSTER Y VII CAMPEONATO DE ESPAÑA MÁSTER POR FEDERACIONES
DESCRIPTION:INFORMACIÓN FINAL\nREUNIÓN TÉCNICA:  17/11/23\, 20:00-20:30 en la Sala de Prensa\, Palacio de Deportes de la Guía «Presidente Adolfo Suárez»\, Gijón \nENLACE PARA STREAMING: http://bit.ly/HALTEROMASTERGIJON23 \nULTIMO LISTADO DE PARTICIPANTES: LISTADO DEFINITIVO COPA MÁSTER GIJÓN 2023-R04 \nDESCRIPCIÓN\nEn el próximo 18 de noviembre se celebrará en Gijón\, la VII Copa de España de Halterofilia Máster y el VII Campeonato de España por Federaciones. La competición se organizará conjuntamente entre el Club Escuela Astur\, la Federación Asturiana de Halterofilia y el Comité Español de Halterofilia Máster. A continuación\, podéis ver los detalles: \nEVENTO:  VII Copa de España y VII Campeonato de España por Federaciones \nFECHAS: 18 de noviembre 2023 \nLUGAR: Palacio de Deportes de la Guía «Presidente Adolfo Suárez»\, Gijón https://www.gijon.es/es/directorio/palacio-de-deportes-de-la-guia-presidente-adolfo-suarez   \nHORARIO DEFINITIVO Y LISTADO DE PARTICIPANTES \n \n \n \n \n \nINSCRIPCIÓN CERRADA: La participación es abierta\, no es necesario realizar una marca mínima previa para participar en el campeonato. Todo levantador/a\, debe estar en posesión de la licencia federativa del año en curso tramitada por su Federación Autonómica. La copa puede servir como clasificatoria para el Campeonato de España\, Europa y Mundo Máster 2024. Se entregarán trofeos a las tres mejores marcas de cada grupo de edad –  según la puntuación SMF (masculino) y SHMF (femenino). Las mejores tres federaciones también recibirán un trofeo y medallas individuales para cada participante en la selección. EXTRANJEROS:    También está abierto a extranjeros. No podrán acceder a títulos como mejor marca por edad o a establecer récords de España\, pero sí podrán disfrutar del evento teniendo además su propio Open\, teniendo derecho a pódium y premiación dentro de su propia clasificación de extranjeros\, exclusivamente por puntuación SMF/SHMF. ANTIDOPAJE: El Comité está comprometido con el deporte limpio\, con lo cual habrá controles de dopaje realizados por APSEAD. Rogamos que se informe sobre las reglas de Antidopaje y que cada atleta revise la medicación tomada\, usando o NoDopApp (se puede descargar en Android o iOS) o NoDopWeb (https://nodopweb.aepsad.gob.es/).  CUOTA INSCRIPCIÓN:  30 €  FECHA LÍMITE INSCRIPCIÓN:   23 septiembre 2023 FECHA LÍMITE PAGO DE LA CUOTA:   7 octubre 2023 DESCARGAR AQUÍ HOJA DE INSCRIPCIÓN (SOLO LAS FEDERACIONES TERRITORIALES/DELEGACIÓN MASTER – NO INDIVIDUALES) Participantes INDIVIDUALES por favor contactar con el representante de tu Federación Territorial Contactos Territoriales Las inscripciones deberán hacerse con el Excel oficial que podéis descargar del siguiente enlace: FormularioInscripcion_VII-Copa-España-Master_2023 Cada Federación Territorial o Delegación Máster Territorial\, deberá cumplimentar un solo Excel (POR FAVOR DESCARGAR LA COPIA Y RELLENARLA) con todos sus atletas masculinos y femeninos\, y enviarlo a comitehalterofiliamaster@gmail.com junto con todos los comprobantes de pago de tod@s sus atletas\, en un solo mail al correo de la organización NO SE ACEPTA INSCRIPCIONES NI PAGOS INDIVIDUALES: CUENTA PARA PAGOS DE LAS INSCRIPCIONES  (SOLO LAS FEDERACIONES TERRITORIALES/DELEGACIÓN MASTER – NO INDIVIDUALES):  REAL FEDERACIÓN ESPAÑOLA DE HALTEROFILIA: ES53 3058 0972 7227 2002 2821   ALOJAMIENTO: Descarga la información sobre el hotel y como hacer las reservas. Las reservas SÍ se pueden hacer individualmente. https://www.hotelesbegona.com/begona-centro/  PRECIOS ESPECIALES (POR HABITACIÖN Y NOCHE) \n\nALOJAMIENTO + DESAYUNO – Individual 54EUR\, Doble 68EUR\nMEDIA PENSIÓN (vino y agua incluido) – Individual 67EUR\, Doble 94EUR\nPENSIÓN COMPLETA (vino y agua incluido) – Individual 80EUR\, Doble 120EUR\nHacer la reserva a traves del email cbegona@hotelsbegona.com o Tel: 985147211 con referencia «Copa de España Máster»\nEl pago a directamente al hotel no hace falta pago por adelantado.
URL:https://halterofiliamasters.es/evento/vii-copa-de-espana-y-vii-campeonato-de-espana-por-federaciones/
LOCATION:Palacio de Deportes de la Guía\,  Gijón\, Paseo del Doctor Flemming\, 929\, Gijón\, Asturias\, España
CATEGORIES:Nacional,Presencial
ATTACH;FMTTYPE=image/jpeg:https://halterofiliamasters.es/wp-content/uploads/2023/06/WhatsApp-Image-2023-09-18-at-22.57.04.jpeg
END:VEVENT
END:VCALENDAR